Package: LymphoSeq Version: 1.32.0 Command: /home/biocbuild/R/R-beta-2024-04-15_r86425/bin/R CMD build --keep-empty-dirs --no-resave-data LymphoSeq StartedAt: 2024-05-09 01:18:23 -0000 (Thu, 09 May 2024) EndedAt: 2024-05-09 01:19:49 -0000 (Thu, 09 May 2024) EllapsedTime: 86.1 seconds RetCode: 0 Status: OK PackageFile: LymphoSeq_1.32.0.tar.gz PackageFileSize: 1.531 MiB