Package: LymphoSeq Version: 1.32.0 Command: rm -rf LymphoSeq.buildbin-libdir && mkdir LymphoSeq.buildbin-libdir && F:\biocbuild\bbs-3.19-bioc\R\bin\R.exe CMD INSTALL --build --library=LymphoSeq.buildbin-libdir LymphoSeq_1.32.0.tar.gz StartedAt: 2024-06-27 08:26:10 -0400 (Thu, 27 Jun 2024) EndedAt: 2024-06-27 08:26:38 -0400 (Thu, 27 Jun 2024) EllapsedTime: 28.0 seconds RetCode: 0 Status: OK PackageFile: LymphoSeq_1.32.0.zip PackageFileSize: 1.487 MiB