Package: M3C Version: 1.26.0 Command: rm -rf M3C.buildbin-libdir && mkdir M3C.buildbin-libdir && /Users/biocbuild/BBS/utils/build-universal.sh M3C_1.26.0.tar.gz /Library/Frameworks/R.framework/Resources/bin/R M3C.buildbin-libdir StartedAt: 2024-10-18 19:11:36 -0400 (Fri, 18 Oct 2024) EndedAt: 2024-10-18 19:11:50 -0400 (Fri, 18 Oct 2024) EllapsedTime: 13.5 seconds RetCode: 0 Status: OK PackageFile: M3C_1.26.0.tgz PackageFileSize: 756.6 KiB