Package: M3C Version: 1.26.0 Command: /Library/Frameworks/R.framework/Resources/bin/R CMD build --keep-empty-dirs --no-resave-data M3C StartedAt: 2024-10-17 03:20:24 -0400 (Thu, 17 Oct 2024) EndedAt: 2024-10-17 03:21:25 -0400 (Thu, 17 Oct 2024) EllapsedTime: 60.7 seconds RetCode: 0 Status: OK PackageFile: M3C_1.26.0.tar.gz PackageFileSize: 588.7 KiB