Package: M3C Version: 1.26.0 Command: /Library/Frameworks/R.framework/Resources/bin/R CMD check --install=check:M3C.install-out.txt --library=/Library/Frameworks/R.framework/Resources/library --no-vignettes --timings M3C_1.26.0.tar.gz StartedAt: 2024-10-18 02:18:04 -0400 (Fri, 18 Oct 2024) EndedAt: 2024-10-18 02:19:39 -0400 (Fri, 18 Oct 2024) EllapsedTime: 95.6 seconds RetCode: 0 Status: OK CheckDir: M3C.Rcheck Warnings: 0