Package: M3C Version: 1.26.0 Command: /Library/Frameworks/R.framework/Resources/bin/R CMD build --keep-empty-dirs --no-resave-data M3C StartedAt: 2024-06-09 23:39:24 -0400 (Sun, 09 Jun 2024) EndedAt: 2024-06-09 23:40:30 -0400 (Sun, 09 Jun 2024) EllapsedTime: 66.5 seconds RetCode: 0 Status: OK PackageFile: M3C_1.26.0.tar.gz PackageFileSize: 587.8 KiB