Package: M3C Version: 1.26.0 Command: /home/biocbuild/R/R-beta-2024-04-15_r86425/bin/R CMD build --keep-empty-dirs --no-resave-data M3C StartedAt: 2024-05-09 01:18:23 -0000 (Thu, 09 May 2024) EndedAt: 2024-05-09 01:19:18 -0000 (Thu, 09 May 2024) EllapsedTime: 55.1 seconds RetCode: 0 Status: OK PackageFile: M3C_1.26.0.tar.gz PackageFileSize: 579.7 KiB