Package: M3C Version: 1.26.0 Command: /Library/Frameworks/R.framework/Resources/bin/R CMD check --install=check:M3C.install-out.txt --library=/Library/Frameworks/R.framework/Resources/library --no-vignettes --timings M3C_1.26.0.tar.gz StartedAt: 2024-10-17 07:31:41 -0400 (Thu, 17 Oct 2024) EndedAt: 2024-10-17 07:34:50 -0400 (Thu, 17 Oct 2024) EllapsedTime: 189.7 seconds RetCode: 0 Status: OK CheckDir: M3C.Rcheck Warnings: 0