Package: M3C Version: 1.26.0 Command: chmod a+r M3C -R && F:\biocbuild\bbs-3.19-bioc\R\bin\R.exe CMD build --keep-empty-dirs --no-resave-data M3C StartedAt: 2024-06-26 19:46:40 -0400 (Wed, 26 Jun 2024) EndedAt: 2024-06-26 19:47:50 -0400 (Wed, 26 Jun 2024) EllapsedTime: 69.9 seconds RetCode: 0 Status: OK PackageFile: M3C_1.26.0.tar.gz PackageFileSize: 589.1 KiB