Package: M3C Version: 1.26.0 Command: F:\biocbuild\bbs-3.19-bioc\R\bin\R.exe CMD INSTALL M3C StartedAt: 2024-06-26 15:48:19 -0400 (Wed, 26 Jun 2024) EndedAt: 2024-06-26 15:48:35 -0400 (Wed, 26 Jun 2024) EllapsedTime: 16.8 seconds RetCode: 0 Status: OK