Package: M3C Version: 1.26.0 Command: rm -rf M3C.buildbin-libdir && mkdir M3C.buildbin-libdir && E:\biocbuild\bbs-3.19-bioc\R\bin\R.exe CMD INSTALL --build --library=M3C.buildbin-libdir M3C_1.26.0.tar.gz StartedAt: 2024-10-17 08:03:35 -0400 (Thu, 17 Oct 2024) EndedAt: 2024-10-17 08:03:51 -0400 (Thu, 17 Oct 2024) EllapsedTime: 16.1 seconds RetCode: 0 Status: OK PackageFile: M3C_1.26.0.zip PackageFileSize: 760.7 KiB