Package: M3C Version: 1.26.0 Command: chmod a+r M3C -R && E:\biocbuild\bbs-3.19-bioc\R\bin\R.exe CMD build --keep-empty-dirs --no-resave-data M3C StartedAt: 2024-10-16 20:01:29 -0400 (Wed, 16 Oct 2024) EndedAt: 2024-10-16 20:02:48 -0400 (Wed, 16 Oct 2024) EllapsedTime: 78.4 seconds RetCode: 0 Status: OK PackageFile: M3C_1.26.0.tar.gz PackageFileSize: 589.7 KiB