Package: M3Drop Version: 1.30.0 Command: /Library/Frameworks/R.framework/Resources/bin/R CMD check --install=check:M3Drop.install-out.txt --library=/Library/Frameworks/R.framework/Resources/library --no-vignettes --timings M3Drop_1.30.0.tar.gz StartedAt: 2024-10-18 02:18:59 -0400 (Fri, 18 Oct 2024) EndedAt: 2024-10-18 02:25:08 -0400 (Fri, 18 Oct 2024) EllapsedTime: 368.7 seconds RetCode: 0 Status: OK CheckDir: M3Drop.Rcheck Warnings: 0