Package: M3Drop Version: 1.30.0 Command: /Library/Frameworks/R.framework/Resources/bin/R CMD INSTALL M3Drop StartedAt: 2024-10-16 18:29:07 -0400 (Wed, 16 Oct 2024) EndedAt: 2024-10-16 18:29:26 -0400 (Wed, 16 Oct 2024) EllapsedTime: 18.5 seconds RetCode: 0 Status: OK