Package: M3Drop Version: 1.30.0 Command: /Library/Frameworks/R.framework/Resources/bin/R CMD INSTALL M3Drop StartedAt: 2024-10-16 16:36:07 -0400 (Wed, 16 Oct 2024) EndedAt: 2024-10-16 16:36:42 -0400 (Wed, 16 Oct 2024) EllapsedTime: 35.6 seconds RetCode: 0 Status: OK