Package: M3Drop Version: 1.30.0 Command: /home/biocbuild/bbs-3.19-bioc/R/bin/R CMD build --keep-empty-dirs --no-resave-data M3Drop StartedAt: 2024-10-16 19:13:40 -0400 (Wed, 16 Oct 2024) EndedAt: 2024-10-16 19:15:20 -0400 (Wed, 16 Oct 2024) EllapsedTime: 100.2 seconds RetCode: 0 Status: OK PackageFile: M3Drop_1.30.0.tar.gz PackageFileSize: 12.14 MiB