Package: MACSQuantifyR Version: 1.18.0 Command: rm -rf MACSQuantifyR.buildbin-libdir && mkdir MACSQuantifyR.buildbin-libdir && /Users/biocbuild/BBS/utils/build-universal.sh MACSQuantifyR_1.18.0.tar.gz /Library/Frameworks/R.framework/Resources/bin/R MACSQuantifyR.buildbin-libdir StartedAt: 2024-10-18 19:12:15 -0400 (Fri, 18 Oct 2024) EndedAt: 2024-10-18 19:12:25 -0400 (Fri, 18 Oct 2024) EllapsedTime: 10.4 seconds RetCode: 0 Status: OK PackageFile: MACSQuantifyR_1.18.0.tgz PackageFileSize: 4.464 MiB