Package: MACSQuantifyR Version: 1.18.0 Command: /home/biocbuild/R/R-beta-2024-04-15_r86425/bin/R CMD check --install=check:MACSQuantifyR.install-out.txt --library=/home/biocbuild/R/R-beta-2024-04-15_r86425/site-library --no-vignettes --timings MACSQuantifyR_1.18.0.tar.gz StartedAt: 2024-05-09 08:57:05 -0000 (Thu, 09 May 2024) EndedAt: 2024-05-09 08:57:54 -0000 (Thu, 09 May 2024) EllapsedTime: 49.1 seconds RetCode: 0 Status: OK CheckDir: MACSQuantifyR.Rcheck Warnings: 0