Package: MACSr Version: 1.12.0 Command: /Library/Frameworks/R.framework/Resources/bin/R CMD build --keep-empty-dirs --no-resave-data MACSr StartedAt: 2024-10-17 03:23:04 -0400 (Thu, 17 Oct 2024) EndedAt: 2024-10-17 03:23:56 -0400 (Thu, 17 Oct 2024) EllapsedTime: 51.8 seconds RetCode: 0 Status: OK PackageFile: MACSr_1.12.0.tar.gz PackageFileSize: 865.5 KiB