Package: MACSr Version: 1.12.0 Command: /Library/Frameworks/R.framework/Resources/bin/R CMD INSTALL MACSr StartedAt: 2024-06-09 15:33:55 -0400 (Sun, 09 Jun 2024) EndedAt: 2024-06-09 15:34:24 -0400 (Sun, 09 Jun 2024) EllapsedTime: 29.4 seconds RetCode: 0 Status: OK