Package: MACSr Version: 1.11.2 Command: rm -rf MACSr.buildbin-libdir && mkdir MACSr.buildbin-libdir && /Users/biocbuild/BBS/utils/build-universal.sh MACSr_1.11.2.tar.gz /Library/Frameworks/R.framework/Resources/bin/R MACSr.buildbin-libdir StartedAt: 2024-03-02 13:47:17 -0500 (Sat, 02 Mar 2024) EndedAt: 2024-03-02 13:48:00 -0500 (Sat, 02 Mar 2024) EllapsedTime: 43.0 seconds RetCode: 0 Status: OK PackageFile: MACSr_1.11.2.tgz PackageFileSize: 1.151 MiB