Package: MACSr Version: 1.12.0 Command: /Library/Frameworks/R.framework/Resources/bin/R CMD build --keep-empty-dirs --no-resave-data MACSr StartedAt: 2024-10-16 20:27:48 -0400 (Wed, 16 Oct 2024) EndedAt: 2024-10-16 20:29:38 -0400 (Wed, 16 Oct 2024) EllapsedTime: 110.0 seconds RetCode: 1 Status: ERROR PackageFile: None PackageFileSize: NA