Package: MAGAR Version: 1.12.0 Maintainer: Michael Scherer MaintainerEmail: michael.scherer at dkfz.de git_url: https://git.bioconductor.org/packages/MAGAR git_branch: RELEASE_3_19 git_last_commit: b5601fa git_last_commit_date: 2024-04-30 11:31:25 -0400 (Tue, 30 Apr 2024)