Package: MAGAR Version: 1.12.0 Command: /Library/Frameworks/R.framework/Resources/bin/R CMD build --keep-empty-dirs --no-resave-data MAGAR StartedAt: 2024-10-17 03:24:15 -0400 (Thu, 17 Oct 2024) EndedAt: 2024-10-17 03:26:57 -0400 (Thu, 17 Oct 2024) EllapsedTime: 162.8 seconds RetCode: 0 Status: OK PackageFile: MAGAR_1.12.0.tar.gz PackageFileSize: 1022 KiB