Package: MAGAR Version: 1.12.0 Command: rm -rf MAGAR.buildbin-libdir && mkdir MAGAR.buildbin-libdir && /Users/biocbuild/BBS/utils/build-universal.sh MAGAR_1.12.0.tar.gz /Library/Frameworks/R.framework/Resources/bin/R MAGAR.buildbin-libdir StartedAt: 2024-06-11 11:52:21 -0400 (Tue, 11 Jun 2024) EndedAt: 2024-06-11 11:54:29 -0400 (Tue, 11 Jun 2024) EllapsedTime: 127.6 seconds RetCode: 0 Status: OK PackageFile: MAGAR_1.12.0.tgz PackageFileSize: 1.552 MiB