Package: MAGAR Version: 1.12.0 Command: /Library/Frameworks/R.framework/Resources/bin/R CMD check --install=check:MAGAR.install-out.txt --library=/Library/Frameworks/R.framework/Resources/library --no-vignettes --timings MAGAR_1.12.0.tar.gz StartedAt: 2024-06-10 20:26:49 -0400 (Mon, 10 Jun 2024) EndedAt: 2024-06-10 20:41:40 -0400 (Mon, 10 Jun 2024) EllapsedTime: 890.5 seconds RetCode: 0 Status: OK CheckDir: MAGAR.Rcheck Warnings: 0