Package: MAGAR Version: 1.12.0 Command: /home/biocbuild/R/R-beta-2024-04-15_r86425/bin/R CMD INSTALL MAGAR StartedAt: 2024-05-08 21:06:37 -0000 (Wed, 08 May 2024) EndedAt: 2024-05-08 21:08:03 -0000 (Wed, 08 May 2024) EllapsedTime: 85.9 seconds RetCode: 0 Status: OK