Package: MAGAR Version: 1.12.0 Command: /Library/Frameworks/R.framework/Resources/bin/R CMD build --keep-empty-dirs --no-resave-data MAGAR StartedAt: 2024-06-09 17:07:38 -0400 (Sun, 09 Jun 2024) EndedAt: 2024-06-09 17:10:07 -0400 (Sun, 09 Jun 2024) EllapsedTime: 148.4 seconds RetCode: 0 Status: OK PackageFile: MAGAR_1.12.0.tar.gz PackageFileSize: 1020 KiB