Package: MAGAR Version: 1.12.0 Command: rm -rf MAGAR.buildbin-libdir && mkdir MAGAR.buildbin-libdir && F:\biocbuild\bbs-3.19-bioc\R\bin\R.exe CMD INSTALL --build --library=MAGAR.buildbin-libdir MAGAR_1.12.0.tar.gz StartedAt: 2024-06-27 08:26:29 -0400 (Thu, 27 Jun 2024) EndedAt: 2024-06-27 08:28:06 -0400 (Thu, 27 Jun 2024) EllapsedTime: 96.5 seconds RetCode: 0 Status: OK PackageFile: MAGAR_1.12.0.zip PackageFileSize: 1.348 MiB