Package: MAGAR Version: 1.12.0 Command: F:\biocbuild\bbs-3.19-bioc\R\bin\R.exe CMD check --no-multiarch --install=check:MAGAR.install-out.txt --library=F:\biocbuild\bbs-3.19-bioc\R\library --no-vignettes --timings MAGAR_1.12.0.tar.gz StartedAt: 2024-06-27 03:09:37 -0400 (Thu, 27 Jun 2024) EndedAt: 2024-06-27 03:18:45 -0400 (Thu, 27 Jun 2024) EllapsedTime: 547.8 seconds RetCode: 0 Status: WARNINGS CheckDir: MAGAR.Rcheck Warnings: 1