Package: MAI Version: 1.10.0 Command: rm -rf MAI.buildbin-libdir && mkdir MAI.buildbin-libdir && /Users/biocbuild/BBS/utils/build-universal.sh MAI_1.10.0.tar.gz /Library/Frameworks/R.framework/Resources/bin/R MAI.buildbin-libdir StartedAt: 2024-10-18 19:13:10 -0400 (Fri, 18 Oct 2024) EndedAt: 2024-10-18 19:13:50 -0400 (Fri, 18 Oct 2024) EllapsedTime: 39.4 seconds RetCode: 0 Status: OK PackageFile: MAI_1.10.0.tgz PackageFileSize: 498.9 KiB