Package: MAI Version: 1.10.0 Command: rm -rf MAI.buildbin-libdir && mkdir MAI.buildbin-libdir && F:\biocbuild\bbs-3.19-bioc\R\bin\R.exe CMD INSTALL --build --library=MAI.buildbin-libdir MAI_1.10.0.tar.gz StartedAt: 2024-06-27 08:26:36 -0400 (Thu, 27 Jun 2024) EndedAt: 2024-06-27 08:27:17 -0400 (Thu, 27 Jun 2024) EllapsedTime: 41.4 seconds RetCode: 0 Status: OK PackageFile: MAI_1.10.0.zip PackageFileSize: 501.3 KiB