Package: MAI Version: 1.10.0 Command: chmod a+r MAI -R && E:\biocbuild\bbs-3.19-bioc\R\bin\R.exe CMD build --keep-empty-dirs --no-resave-data MAI StartedAt: 2024-10-16 20:02:45 -0400 (Wed, 16 Oct 2024) EndedAt: 2024-10-16 20:08:26 -0400 (Wed, 16 Oct 2024) EllapsedTime: 340.9 seconds RetCode: 0 Status: OK PackageFile: MAI_1.10.0.tar.gz PackageFileSize: 452.5 KiB