Package: MANOR Version: 1.76.0 Command: chmod a+r MANOR -R && E:\biocbuild\bbs-3.19-bioc\R\bin\R.exe CMD build --keep-empty-dirs --no-resave-data MANOR StartedAt: 2024-10-16 20:03:05 -0400 (Wed, 16 Oct 2024) EndedAt: 2024-10-16 20:04:08 -0400 (Wed, 16 Oct 2024) EllapsedTime: 63.5 seconds RetCode: 0 Status: OK PackageFile: MANOR_1.76.0.tar.gz PackageFileSize: 821.5 KiB