Package: MAPFX Version: 1.0.0 Command: /Library/Frameworks/R.framework/Resources/bin/R CMD check --install=check:MAPFX.install-out.txt --library=/Library/Frameworks/R.framework/Resources/library --no-vignettes --timings MAPFX_1.0.0.tar.gz StartedAt: 2024-10-17 07:38:06 -0400 (Thu, 17 Oct 2024) EndedAt: 2024-10-17 08:11:39 -0400 (Thu, 17 Oct 2024) EllapsedTime: 2013.2 seconds RetCode: 0 Status: OK CheckDir: MAPFX.Rcheck Warnings: 0