Package: MAPFX Version: 1.0.0 Command: /Library/Frameworks/R.framework/Resources/bin/R CMD INSTALL MAPFX StartedAt: 2024-10-16 16:49:14 -0400 (Wed, 16 Oct 2024) EndedAt: 2024-10-16 16:50:06 -0400 (Wed, 16 Oct 2024) EllapsedTime: 51.8 seconds RetCode: 0 Status: OK