Package: MAPFX Version: 1.0.0 Command: chmod a+r MAPFX -R && F:\biocbuild\bbs-3.19-bioc\R\bin\R.exe CMD build --keep-empty-dirs --no-resave-data MAPFX StartedAt: 2024-06-26 19:48:44 -0400 (Wed, 26 Jun 2024) EndedAt: 2024-06-26 20:01:38 -0400 (Wed, 26 Jun 2024) EllapsedTime: 773.9 seconds RetCode: 0 Status: OK PackageFile: MAPFX_1.0.0.tar.gz PackageFileSize: 3.543 MiB