Package: MAPFX Version: 1.0.0 Command: rm -rf MAPFX.buildbin-libdir && mkdir MAPFX.buildbin-libdir && E:\biocbuild\bbs-3.19-bioc\R\bin\R.exe CMD INSTALL --build --library=MAPFX.buildbin-libdir MAPFX_1.0.0.tar.gz StartedAt: 2024-10-17 08:04:23 -0400 (Thu, 17 Oct 2024) EndedAt: 2024-10-17 08:04:53 -0400 (Thu, 17 Oct 2024) EllapsedTime: 29.4 seconds RetCode: 0 Status: OK PackageFile: MAPFX_1.0.0.zip PackageFileSize: 2.508 MiB