Package: MAPFX Version: 1.0.0 Command: chmod a+r MAPFX -R && E:\biocbuild\bbs-3.19-bioc\R\bin\R.exe CMD build --keep-empty-dirs --no-resave-data MAPFX StartedAt: 2024-10-16 20:03:26 -0400 (Wed, 16 Oct 2024) EndedAt: 2024-10-16 20:15:27 -0400 (Wed, 16 Oct 2024) EllapsedTime: 720.7 seconds RetCode: 0 Status: OK PackageFile: MAPFX_1.0.0.tar.gz PackageFileSize: 3.543 MiB