Package: MAST Version: 1.30.0 Command: /home/biocbuild/bbs-3.19-bioc/R/bin/R CMD build --keep-empty-dirs --no-resave-data MAST StartedAt: 2024-10-16 19:16:55 -0400 (Wed, 16 Oct 2024) EndedAt: 2024-10-16 19:21:00 -0400 (Wed, 16 Oct 2024) EllapsedTime: 244.5 seconds RetCode: 0 Status: OK PackageFile: MAST_1.30.0.tar.gz PackageFileSize: 6.714 MiB