Package: MBASED Version: 1.38.0 Command: /Library/Frameworks/R.framework/Resources/bin/R CMD build --keep-empty-dirs --no-resave-data MBASED StartedAt: 2024-10-17 03:37:30 -0400 (Thu, 17 Oct 2024) EndedAt: 2024-10-17 03:39:54 -0400 (Thu, 17 Oct 2024) EllapsedTime: 143.0 seconds RetCode: 0 Status: OK PackageFile: MBASED_1.38.0.tar.gz PackageFileSize: 364.6 KiB