Package: MBASED Version: 1.38.0 Command: rm -rf MBASED.buildbin-libdir && mkdir MBASED.buildbin-libdir && /Users/biocbuild/BBS/utils/build-universal.sh MBASED_1.38.0.tar.gz /Library/Frameworks/R.framework/Resources/bin/R MBASED.buildbin-libdir StartedAt: 2024-06-11 11:54:41 -0400 (Tue, 11 Jun 2024) EndedAt: 2024-06-11 11:55:23 -0400 (Tue, 11 Jun 2024) EllapsedTime: 41.9 seconds RetCode: 0 Status: OK PackageFile: MBASED_1.38.0.tgz PackageFileSize: 493.3 KiB