Package: MBASED Version: 1.38.0 Command: /home/biocbuild/R/R-beta-2024-04-15_r86425/bin/R CMD build --keep-empty-dirs --no-resave-data MBASED StartedAt: 2024-05-09 01:23:17 -0000 (Thu, 09 May 2024) EndedAt: 2024-05-09 01:26:33 -0000 (Thu, 09 May 2024) EllapsedTime: 196.3 seconds RetCode: 0 Status: OK PackageFile: MBASED_1.38.0.tar.gz PackageFileSize: 338.5 KiB