Package: MBASED Version: 1.38.0 Command: /home/biocbuild/R/R-beta-2024-04-15_r86425/bin/R CMD check --install=check:MBASED.install-out.txt --library=/home/biocbuild/R/R-beta-2024-04-15_r86425/site-library --no-vignettes --timings MBASED_1.38.0.tar.gz StartedAt: 2024-05-09 09:03:10 -0000 (Thu, 09 May 2024) EndedAt: 2024-05-09 09:07:13 -0000 (Thu, 09 May 2024) EllapsedTime: 242.4 seconds RetCode: 0 Status: OK CheckDir: MBASED.Rcheck Warnings: 0