Package: MBASED Version: 1.38.0 Command: rm -rf MBASED.buildbin-libdir && mkdir MBASED.buildbin-libdir && /Users/biocbuild/BBS/utils/build-universal.sh MBASED_1.38.0.tar.gz /Library/Frameworks/R.framework/Resources/bin/R MBASED.buildbin-libdir StartedAt: 2024-06-10 00:25:28 -0400 (Mon, 10 Jun 2024) EndedAt: 2024-06-10 00:26:00 -0400 (Mon, 10 Jun 2024) EllapsedTime: 31.6 seconds RetCode: 0 Status: OK PackageFile: MBASED_1.38.0.tgz PackageFileSize: 494.5 KiB