Package: MBASED Version: 1.38.0 Command: rm -rf MBASED.buildbin-libdir && mkdir MBASED.buildbin-libdir && /Users/biocbuild/BBS/utils/build-universal.sh MBASED_1.38.0.tar.gz /Library/Frameworks/R.framework/Resources/bin/R MBASED.buildbin-libdir StartedAt: 2024-10-17 16:31:03 -0400 (Thu, 17 Oct 2024) EndedAt: 2024-10-17 16:32:00 -0400 (Thu, 17 Oct 2024) EllapsedTime: 57.1 seconds RetCode: 0 Status: OK PackageFile: MBASED_1.38.0.tgz PackageFileSize: 494 KiB