Package: MBASED Version: 1.38.0 Command: /Library/Frameworks/R.framework/Resources/bin/R CMD INSTALL MBASED StartedAt: 2024-10-16 15:37:50 -0400 (Wed, 16 Oct 2024) EndedAt: 2024-10-16 15:38:40 -0400 (Wed, 16 Oct 2024) EllapsedTime: 50.0 seconds RetCode: 0 Status: OK