Package: MBASED Version: 1.38.0 Command: rm -rf MBASED.buildbin-libdir && mkdir MBASED.buildbin-libdir && F:\biocbuild\bbs-3.19-bioc\R\bin\R.exe CMD INSTALL --build --library=MBASED.buildbin-libdir MBASED_1.38.0.tar.gz StartedAt: 2024-06-27 08:27:28 -0400 (Thu, 27 Jun 2024) EndedAt: 2024-06-27 08:27:57 -0400 (Thu, 27 Jun 2024) EllapsedTime: 28.5 seconds RetCode: 0 Status: OK PackageFile: MBASED_1.38.0.zip PackageFileSize: 499.8 KiB