Package: MBASED Version: 1.38.0 Command: E:\biocbuild\bbs-3.19-bioc\R\bin\R.exe CMD INSTALL MBASED StartedAt: 2024-10-16 16:25:19 -0400 (Wed, 16 Oct 2024) EndedAt: 2024-10-16 16:25:47 -0400 (Wed, 16 Oct 2024) EllapsedTime: 28.6 seconds RetCode: 0 Status: OK