Package: MBttest Version: 1.32.0 Command: chmod a+r MBttest -R && E:\biocbuild\bbs-3.19-bioc\R\bin\R.exe CMD build --keep-empty-dirs --no-resave-data MBttest StartedAt: 2024-10-16 20:06:50 -0400 (Wed, 16 Oct 2024) EndedAt: 2024-10-16 20:07:18 -0400 (Wed, 16 Oct 2024) EllapsedTime: 27.5 seconds RetCode: 0 Status: OK PackageFile: MBttest_1.32.0.tar.gz PackageFileSize: 3.451 MiB